BEGIN:VCALENDAR
VERSION:2.0
PRODID:icalendar-ruby
CALSCALE:GREGORIAN
METHOD:PUBLISH
BEGIN:VEVENT
DTSTAMP:20260423T112435Z
UID:5-465129@northeast4817.com
DTSTART:20260726T170000Z
DTEND:20260726T180000Z
CLASS:PUBLIC
CREATED:20260422T200805
DESCRIPTION:Sunday Worship
LAST-MODIFIED:20260422T200805
LOCATION:4817 Martin Luther King Avenue 
SUMMARY:Sunday Worship
URL;VALUE=URI:https://www.northeast4817.com/events/sunday-worship/2026-07-2
 6
END:VEVENT
END:VCALENDAR
