BEGIN:VCALENDAR
VERSION:2.0
PRODID:icalendar-ruby
CALSCALE:GREGORIAN
METHOD:PUBLISH
BEGIN:VEVENT
DTSTAMP:20260423T142916Z
UID:5-465471@northeast4817.com
DTSTART:20260809T170000Z
DTEND:20260809T180000Z
CLASS:PUBLIC
CREATED:20260423T053822
DESCRIPTION:Sunday Worship
LAST-MODIFIED:20260423T053822
LOCATION:4817 Martin Luther King Avenue 
SUMMARY:Sunday Worship
URL;VALUE=URI:https://www.northeast4817.com/events/sunday-worship/2026-08-0
 9
END:VEVENT
END:VCALENDAR
