BEGIN:VCALENDAR
VERSION:2.0
PRODID:icalendar-ruby
CALSCALE:GREGORIAN
METHOD:PUBLISH
BEGIN:VEVENT
DTSTAMP:20260423T204625Z
UID:5-466155@northeast4817.com
DTSTART:20260906T170000Z
DTEND:20260906T180000Z
CLASS:PUBLIC
CREATED:20260423T112740
DESCRIPTION:Sunday Worship
LAST-MODIFIED:20260423T112740
LOCATION:4817 Martin Luther King Avenue 
SUMMARY:Sunday Worship
URL;VALUE=URI:https://www.northeast4817.com/events/sunday-worship/2026-09-0
 6
END:VEVENT
END:VCALENDAR
