BEGIN:VCALENDAR
VERSION:2.0
PRODID:icalendar-ruby
CALSCALE:GREGORIAN
METHOD:PUBLISH
BEGIN:VEVENT
DTSTAMP:20260424T021012Z
UID:5-466839@northeast4817.com
DTSTART:20261004T170000Z
DTEND:20261004T180000Z
CLASS:PUBLIC
CREATED:20260423T171528
DESCRIPTION:Sunday Worship
LAST-MODIFIED:20260423T171528
LOCATION:4817 Martin Luther King Avenue 
SUMMARY:Sunday Worship
URL;VALUE=URI:https://www.northeast4817.com/events/sunday-worship/2026-10-0
 4
END:VEVENT
END:VCALENDAR
