BEGIN:VCALENDAR
VERSION:2.0
PRODID:icalendar-ruby
CALSCALE:GREGORIAN
METHOD:PUBLISH
BEGIN:VEVENT
DTSTAMP:20260424T050700Z
UID:5-467181@northeast4817.com
DTSTART:20261018T170000Z
DTEND:20261018T180000Z
CLASS:PUBLIC
CREATED:20260423T201001
DESCRIPTION:Sunday Worship
LAST-MODIFIED:20260423T201001
LOCATION:4817 Martin Luther King Avenue 
SUMMARY:Sunday Worship
URL;VALUE=URI:https://www.northeast4817.com/events/sunday-worship/2026-10-1
 8
END:VEVENT
END:VCALENDAR
